BEGIN:VCALENDAR
VERSION:2.0
PRODID:-//eventon.com NONSGML v1.0//EN
CALSCALE:GREGORIAN
METHOD:PUBLISH
BEGIN:VEVENT
UID:69eb98e798140
DTSTAMP:20260424T162303Z
DTSTART:20250601
DTEND:20250701
LOCATION:1
SUMMARY:2025 EXCEL Summit Campus-Based Professionals
DESCRIPTION:There are more director-level leadership roles within fraternit
 y/sorority life on campus than there have ever been\,  and the complexities
  involved in the job are only increasing. This calls for more advanced trai
 ning on strategy\,  operations management\,  and departmental leadership fo
 r those taking on the position. RISE created The EXCEL Summit[..]\nhttps://
 afa1976.org/events/2025-excel-summit-campus-based-professionals/
URL:https://afa1976.org/events/2025-excel-summit-campus-based-professionals/
END:VEVENT
END:VCALENDAR